BEGIN:VCALENDAR
VERSION:2.0
PRODID:-//Alto Calore Servizi - ECPv6.15.12.2//NONSGML v1.0//EN
CALSCALE:GREGORIAN
METHOD:PUBLISH
X-WR-CALNAME:Alto Calore Servizi
X-ORIGINAL-URL:https://www.altocalore.it
X-WR-CALDESC:Eventi per Alto Calore Servizi
REFRESH-INTERVAL;VALUE=DURATION:PT1H
X-Robots-Tag:noindex
X-PUBLISHED-TTL:PT1H
BEGIN:VTIMEZONE
TZID:Europe/Rome
BEGIN:DAYLIGHT
TZOFFSETFROM:+0100
TZOFFSETTO:+0200
TZNAME:CEST
DTSTART:20250330T010000
END:DAYLIGHT
BEGIN:STANDARD
TZOFFSETFROM:+0200
TZOFFSETTO:+0100
TZNAME:CET
DTSTART:20251026T010000
END:STANDARD
BEGIN:DAYLIGHT
TZOFFSETFROM:+0100
TZOFFSETTO:+0200
TZNAME:CEST
DTSTART:20260329T010000
END:DAYLIGHT
BEGIN:STANDARD
TZOFFSETFROM:+0200
TZOFFSETTO:+0100
TZNAME:CET
DTSTART:20261025T010000
END:STANDARD
BEGIN:DAYLIGHT
TZOFFSETFROM:+0100
TZOFFSETTO:+0200
TZNAME:CEST
DTSTART:20270328T010000
END:DAYLIGHT
BEGIN:STANDARD
TZOFFSETFROM:+0200
TZOFFSETTO:+0100
TZNAME:CET
DTSTART:20271031T010000
END:STANDARD
END:VTIMEZONE
BEGIN:VEVENT
DTSTART;TZID=Europe/Rome:20260404T090000
DTEND;TZID=Europe/Rome:20260429T120000
DTSTAMP:20260421T103722
CREATED:20260402T105505Z
LAST-MODIFIED:20260404T072019Z
UID:29187-1775293200-1777464000@www.altocalore.it
SUMMARY:Sportelli Utenti: avviso di chiusura
DESCRIPTION:Alto Calore Servizi S.p.A. avvisa che i giorni 8 – 20 – 29 aprile resterà chiuso lo sportello di Lioni; \nil giorno 27 aprile resterà chiuso lo sportello di Grottaminarda.
URL:https://www.altocalore.it/avviso/fuori-servizio-idrico-programmato-dell8-e-9-aprile-2026/
CATEGORIES:Avvisi
END:VEVENT
END:VCALENDAR