BEGIN:VCALENDAR
VERSION:2.0
PRODID:-//Alto Calore Servizi - ECPv6.15.12.2//NONSGML v1.0//EN
CALSCALE:GREGORIAN
METHOD:PUBLISH
X-WR-CALNAME:Alto Calore Servizi
X-ORIGINAL-URL:https://www.altocalore.it
X-WR-CALDESC:Eventi per Alto Calore Servizi
REFRESH-INTERVAL;VALUE=DURATION:PT1H
X-Robots-Tag:noindex
X-PUBLISHED-TTL:PT1H
BEGIN:VTIMEZONE
TZID:UTC
BEGIN:STANDARD
TZOFFSETFROM:+0000
TZOFFSETTO:+0000
TZNAME:UTC
DTSTART:20240101T000000
END:STANDARD
END:VTIMEZONE
BEGIN:VEVENT
DTSTART;TZID=UTC:20250514T080000
DTEND;TZID=UTC:20250514T180000
DTSTAMP:20260423T142101
CREATED:20250428T113115Z
LAST-MODIFIED:20250629T153734Z
UID:1204-1747209600-1747245600@www.altocalore.it
SUMMARY:Montemiletto: Sospensione dell'erogazione idrica
DESCRIPTION:Gentile Utente\,\ncomunichiamo che nell’ambito delle nostre azioni per la tutela della risorsa\, è in programma un intervento sulla rete idrica del Comune di MONTEMILETTO.\nSono\, pertanto\, previste mancanze d’acqua e/o abbassamenti della pressione idrica dalle 14:00 alle 20:00 di mercoledì 14 maggio 2025\, alle utenze ubicate nelle seguenti strade e località: \nVIA ROMA\nVIA PIANO\nTUTTE LE RELATIVE TRAVERSE \nL’interruzione del servizio è dovuta ai lavori di collegamento tra i nuovi tratti di rete realizzati e la condotta che li alimenta. \nSi segnala che alla riapertura del flusso idrico potrebbero verificarsi transitori fenomeni di torbidità dell’acqua\, di breve durata\, per i quali si consiglia di far scorrere per alcuni minuti l’acqua dai propri rubinetti. \nCi scusiamo per il disagio.
URL:https://www.altocalore.it/avviso/sospensione-dellerogazione-idrica-per-il-comune-di-montemiletto/
CATEGORIES:Avvisi
END:VEVENT
END:VCALENDAR