BEGIN:VCALENDAR
VERSION:2.0
PRODID:-//Alto Calore Servizi - ECPv6.15.12.2//NONSGML v1.0//EN
CALSCALE:GREGORIAN
METHOD:PUBLISH
X-ORIGINAL-URL:https://www.altocalore.it
X-WR-CALDESC:Eventi per Alto Calore Servizi
REFRESH-INTERVAL;VALUE=DURATION:PT1H
X-Robots-Tag:noindex
X-PUBLISHED-TTL:PT1H
BEGIN:VTIMEZONE
TZID:Europe/Rome
BEGIN:DAYLIGHT
TZOFFSETFROM:+0100
TZOFFSETTO:+0200
TZNAME:CEST
DTSTART:20250330T010000
END:DAYLIGHT
BEGIN:STANDARD
TZOFFSETFROM:+0200
TZOFFSETTO:+0100
TZNAME:CET
DTSTART:20251026T010000
END:STANDARD
BEGIN:DAYLIGHT
TZOFFSETFROM:+0100
TZOFFSETTO:+0200
TZNAME:CEST
DTSTART:20260329T010000
END:DAYLIGHT
BEGIN:STANDARD
TZOFFSETFROM:+0200
TZOFFSETTO:+0100
TZNAME:CET
DTSTART:20261025T010000
END:STANDARD
BEGIN:DAYLIGHT
TZOFFSETFROM:+0100
TZOFFSETTO:+0200
TZNAME:CEST
DTSTART:20270328T010000
END:DAYLIGHT
BEGIN:STANDARD
TZOFFSETFROM:+0200
TZOFFSETTO:+0100
TZNAME:CET
DTSTART:20271031T010000
END:STANDARD
END:VTIMEZONE
BEGIN:VEVENT
DTSTART;TZID=Europe/Rome:20260420T190000
DTEND;TZID=Europe/Rome:20260423T090000
DTSTAMP:20260421T104754
CREATED:20260420T161842Z
LAST-MODIFIED:20260420T161842Z
UID:29262-1776711600-1776934800@www.altocalore.it
SUMMARY:Fuori Servizio Programmato del 22 Aprile 2026 - Santo Stefano del Sole
DESCRIPTION:ENEL – Distribuzione ha comunicato che Mercoledì 22 Aprile 2026\, dalle ore 08:30 alle ore 16:00\, effettuerà lavori di manutenzione sugli impianti nella frazione Capolungo nel territorio del Comune di Santo Stefano del Sole. \nLa mancanza di energia elettrica comporterà anche il fermo degli impianti di Alto Calore Servizi e il conseguente mancato apporto idrico al sistema di accumulo nei serbatoi. \nPotrebbero\, pertanto\, verificarsi nell’arco della giornata di Mercoledì 22 Aprile disfunzioni per l’approvvigionamento idrico agli utenti del citato Comune. \nQualora i lavori di ENEL si dovessero protrarre oltre l’orario indicato\, si potrebbe rendere necessario effettuare la chiusura notturna dei serbatoi\, dalle ore 22:00 alle ore 06:00 del giorno seguente. \nSi segnala che\, in caso di chiusura dei serbatoi\, alla riapertura del flusso idrico potrebbero verificarsi episodi transitori di breve durata\, di torbidità dell’acqua che non ne pregiudicano la potabilità; tuttavia si consiglia\, di far scorrere per alcuni minuti l’acqua dai propri rubinetti fino alla scomparsa degli eventuali residui. \nAlto Calore Servizi S.p.a. provvederà ad avvisare gli Utenti attraverso il sito web aziendale: www.altocalore.it e sui Canali Social.                              \nPer casi di effettiva necessità contattare il seguente NUMERO VERDE 800954430\, sempre attivo.
URL:https://www.altocalore.it/avviso/fuori-servizio-programmato-del-22-aprile-2026-santo-stefano-del-sole/
CATEGORIES:Avvisi
END:VEVENT
END:VCALENDAR